BEGIN:VCALENDAR
VERSION:2.0
PRODID:-//St. John the Baptist Catholic Church - ECPv6.15.20//NONSGML v1.0//EN
CALSCALE:GREGORIAN
METHOD:PUBLISH
X-ORIGINAL-URL:https://sjtbcc.org
X-WR-CALDESC:Events for St. John the Baptist Catholic Church
REFRESH-INTERVAL;VALUE=DURATION:PT1H
X-Robots-Tag:noindex
X-PUBLISHED-TTL:PT1H
BEGIN:VTIMEZONE
TZID:America/Los_Angeles
BEGIN:DAYLIGHT
TZOFFSETFROM:-0800
TZOFFSETTO:-0700
TZNAME:PDT
DTSTART:20240310T100000
END:DAYLIGHT
BEGIN:STANDARD
TZOFFSETFROM:-0700
TZOFFSETTO:-0800
TZNAME:PST
DTSTART:20241103T090000
END:STANDARD
BEGIN:DAYLIGHT
TZOFFSETFROM:-0800
TZOFFSETTO:-0700
TZNAME:PDT
DTSTART:20250309T100000
END:DAYLIGHT
BEGIN:STANDARD
TZOFFSETFROM:-0700
TZOFFSETTO:-0800
TZNAME:PST
DTSTART:20251102T090000
END:STANDARD
BEGIN:DAYLIGHT
TZOFFSETFROM:-0800
TZOFFSETTO:-0700
TZNAME:PDT
DTSTART:20260308T100000
END:DAYLIGHT
BEGIN:STANDARD
TZOFFSETFROM:-0700
TZOFFSETTO:-0800
TZNAME:PST
DTSTART:20261101T090000
END:STANDARD
END:VTIMEZONE
BEGIN:VEVENT
DTSTART;TZID=America/Los_Angeles:20250321T170000
DTEND;TZID=America/Los_Angeles:20250321T183000
DTSTAMP:20260425T145207
CREATED:20250112T150554Z
LAST-MODIFIED:20250127T180327Z
UID:15738-1742576400-1742581800@sjtbcc.org
SUMMARY:Knights of Columbus Lenten Fish Fry
DESCRIPTION:MENU \nBreaded Fried Cod\nFrench Fries\nIvar’s Clam Chowder and Coleslaw \n\nProceeds & Donations will assist\nAid and Support after pregnancy
URL:https://sjtbcc.org/event/knights-of-columbus-lenten-fish-fry-5/
LOCATION:McMullen Center\, 25810 156th Ave SE\, Covington\, WA\, 98042\, United States
ATTACH;FMTTYPE=image/png:https://sjtbcc.org/wp-content/uploads/2023/03/KofCFishFry.png
END:VEVENT
END:VCALENDAR